BEGIN:VCALENDAR
VERSION:2.0
PRODID:-//Adefan.es - ECPv6.15.12//NONSGML v1.0//EN
CALSCALE:GREGORIAN
METHOD:PUBLISH
X-ORIGINAL-URL:https://www.adefan.es
X-WR-CALDESC:Eventos para Adefan.es
REFRESH-INTERVAL;VALUE=DURATION:PT1H
X-Robots-Tag:noindex
X-PUBLISHED-TTL:PT1H
BEGIN:VTIMEZONE
TZID:Europe/Madrid
BEGIN:DAYLIGHT
TZOFFSETFROM:+0100
TZOFFSETTO:+0200
TZNAME:CEST
DTSTART:20240331T010000
END:DAYLIGHT
BEGIN:STANDARD
TZOFFSETFROM:+0200
TZOFFSETTO:+0100
TZNAME:CET
DTSTART:20241027T010000
END:STANDARD
BEGIN:DAYLIGHT
TZOFFSETFROM:+0100
TZOFFSETTO:+0200
TZNAME:CEST
DTSTART:20250330T010000
END:DAYLIGHT
BEGIN:STANDARD
TZOFFSETFROM:+0200
TZOFFSETTO:+0100
TZNAME:CET
DTSTART:20251026T010000
END:STANDARD
BEGIN:DAYLIGHT
TZOFFSETFROM:+0100
TZOFFSETTO:+0200
TZNAME:CEST
DTSTART:20260329T010000
END:DAYLIGHT
BEGIN:STANDARD
TZOFFSETFROM:+0200
TZOFFSETTO:+0100
TZNAME:CET
DTSTART:20261025T010000
END:STANDARD
END:VTIMEZONE
BEGIN:VEVENT
DTSTART;TZID=Europe/Madrid:20251028T180000
DTEND;TZID=Europe/Madrid:20251028T210000
DTSTAMP:20260424T110207
CREATED:20251016T095226Z
LAST-MODIFIED:20251016T095226Z
UID:13176-1761674400-1761685200@www.adefan.es
SUMMARY:Innovar y continuar: el futuro de la empresa familiar
DESCRIPTION:
URL:https://www.adefan.es/evento/innovar-y-continuar-el-futuro-de-la-empresa-familiar/
LOCATION:Hotel Luze El Toro\, Pamplona El Toro Hotel & Spa\, km. 5 Ctra. de Guipúzcoa\, 31195 Pamplona\, Navarra\, 31195\, España
ORGANIZER;CN="ADEFAN":MAILTO:adefan@adefan.es
END:VEVENT
END:VCALENDAR