BEGIN:VCALENDAR
VERSION:2.0
PRODID:-//Adefan.es - ECPv6.15.12//NONSGML v1.0//EN
CALSCALE:GREGORIAN
METHOD:PUBLISH
X-WR-CALNAME:Adefan.es
X-ORIGINAL-URL:https://www.adefan.es
X-WR-CALDESC:Eventos para Adefan.es
REFRESH-INTERVAL;VALUE=DURATION:PT1H
X-Robots-Tag:noindex
X-PUBLISHED-TTL:PT1H
BEGIN:VTIMEZONE
TZID:Europe/Madrid
BEGIN:DAYLIGHT
TZOFFSETFROM:+0100
TZOFFSETTO:+0200
TZNAME:CEST
DTSTART:20220327T010000
END:DAYLIGHT
BEGIN:STANDARD
TZOFFSETFROM:+0200
TZOFFSETTO:+0100
TZNAME:CET
DTSTART:20221030T010000
END:STANDARD
BEGIN:DAYLIGHT
TZOFFSETFROM:+0100
TZOFFSETTO:+0200
TZNAME:CEST
DTSTART:20230326T010000
END:DAYLIGHT
BEGIN:STANDARD
TZOFFSETFROM:+0200
TZOFFSETTO:+0100
TZNAME:CET
DTSTART:20231029T010000
END:STANDARD
BEGIN:DAYLIGHT
TZOFFSETFROM:+0100
TZOFFSETTO:+0200
TZNAME:CEST
DTSTART:20240331T010000
END:DAYLIGHT
BEGIN:STANDARD
TZOFFSETFROM:+0200
TZOFFSETTO:+0100
TZNAME:CET
DTSTART:20241027T010000
END:STANDARD
BEGIN:DAYLIGHT
TZOFFSETFROM:+0100
TZOFFSETTO:+0200
TZNAME:CEST
DTSTART:20250330T010000
END:DAYLIGHT
BEGIN:STANDARD
TZOFFSETFROM:+0200
TZOFFSETTO:+0100
TZNAME:CET
DTSTART:20251026T010000
END:STANDARD
BEGIN:DAYLIGHT
TZOFFSETFROM:+0100
TZOFFSETTO:+0200
TZNAME:CEST
DTSTART:20260329T010000
END:DAYLIGHT
BEGIN:STANDARD
TZOFFSETFROM:+0200
TZOFFSETTO:+0100
TZNAME:CET
DTSTART:20261025T010000
END:STANDARD
BEGIN:DAYLIGHT
TZOFFSETFROM:+0100
TZOFFSETTO:+0200
TZNAME:CEST
DTSTART:20270328T010000
END:DAYLIGHT
BEGIN:STANDARD
TZOFFSETFROM:+0200
TZOFFSETTO:+0100
TZNAME:CET
DTSTART:20271031T010000
END:STANDARD
END:VTIMEZONE
BEGIN:VEVENT
DTSTART;TZID=Europe/Madrid:20260421T091500
DTEND;TZID=Europe/Madrid:20260421T114500
DTSTAMP:20260422T143123
CREATED:20260401T131259Z
LAST-MODIFIED:20260420T104629Z
UID:13283-1776762900-1776771900@www.adefan.es
SUMMARY:USOS DE LA IA EN LA EMPRESA FAMILIAR
DESCRIPTION:
URL:https://www.adefan.es/evento/usos-de-la-ia-en-la-empresa-familiar/
LOCATION:Klammer WorkSpaces\, Arcadio María Larraona\, 1 – 2ª planta\, Pamplona\, Navarra\, 31008\, España
CATEGORIES:ADEFAN en Acción,Jornada ADEFAN,Taller
END:VEVENT
BEGIN:VEVENT
DTSTART;TZID=Europe/Madrid:20260324T091500
DTEND;TZID=Europe/Madrid:20260324T114500
DTSTAMP:20260422T143123
CREATED:20260310T100821Z
LAST-MODIFIED:20260323T114357Z
UID:13224-1774343700-1774352700@www.adefan.es
SUMMARY:ADEFAN en Acción - Gestión de personas en la Empresa Familiar
DESCRIPTION:
URL:https://www.adefan.es/evento/13224/
LOCATION:Klammer WorkSpaces\, Arcadio María Larraona\, 1 – 2ª planta\, Pamplona\, Navarra\, 31008\, España
END:VEVENT
BEGIN:VEVENT
DTSTART;TZID=Europe/Madrid:20260224T180000
DTEND;TZID=Europe/Madrid:20260224T203000
DTSTAMP:20260422T143123
CREATED:20260213T093455Z
LAST-MODIFIED:20260213T093455Z
UID:13219-1771956000-1771965000@www.adefan.es
SUMMARY:La donación y la herencia en la Empresa Familiar
DESCRIPTION:
URL:https://www.adefan.es/evento/la-donacion-y-la-herencia-en-la-empresa-familiar/
LOCATION:Hotel Luze El Toro\, Pamplona El Toro Hotel & Spa\, km. 5 Ctra. de Guipúzcoa\, 31195 Pamplona\, Navarra\, 31195\, España
END:VEVENT
BEGIN:VEVENT
DTSTART;TZID=Europe/Madrid:20260205T183000
DTEND;TZID=Europe/Madrid:20260205T213000
DTSTAMP:20260422T143123
CREATED:20260116T095313Z
LAST-MODIFIED:20260123T082333Z
UID:13210-1770316200-1770327000@www.adefan.es
SUMMARY:PRIMER EVENTO DEL AÑO · ADEFAN 2026
DESCRIPTION:Jueves\, 5 de febrero 18:30 h Hotel Tres Reyes \nEl primer gran evento de ADEFAN en 2026 será mucho más que un encuentro.Un espacio para reencontrarnos\, compartir visión y seguir fortaleciendo la comunidad ADEFAN. \nContaremos con la participación de:\n Roberto Cabezas Ríos\, ponente invitado\, que nos ofrecerá una mirada inspiradora sobre liderazgo\, comunicación\, personas y comunidad como palancas para avanzar en contextos de cambio.\n Leyre Mateos\, conductora del evento. \nDurante el encuentro:\n Presentaremos las acciones y actividades de ADEFAN para 2026\n Generaremos espacio para el encuentro\, la conversación y la conexión\n Compartiremos ideas para seguir fortaleciendo la empresa familiar en Navarra \nEste encuentro es\, sobre todo\, una invitación a sumar\, a participar y a sentirse parte activa de ADEFAN.
URL:https://www.adefan.es/evento/primer-evento-del-ano-%c2%b7-adefan-2026/
LOCATION:Hotel Tres Reyes\, Hotel Tres Reyes\, Pamplona\, Navarra\, 31001\, España
CATEGORIES:Jornada ADEFAN
END:VEVENT
BEGIN:VEVENT
DTSTART;TZID=Europe/Madrid:20251125T180000
DTEND;TZID=Europe/Madrid:20251125T210000
DTSTAMP:20260422T143123
CREATED:20251112T121126Z
LAST-MODIFIED:20251112T121126Z
UID:13187-1764093600-1764104400@www.adefan.es
SUMMARY:Herramientas de la Empresa Familiar para atraer y fidelizar el talento
DESCRIPTION:
URL:https://www.adefan.es/evento/herramientas-de-la-empresa-familiar-para-atraer-y-fidelizar-el-talento/
LOCATION:Hotel Castillo de Gorráiz Golf & Spa\, Av. de Egüés\, 78\, Gorráiz\, Navarra\, 31620\, España
END:VEVENT
BEGIN:VEVENT
DTSTART;TZID=Europe/Madrid:20251028T180000
DTEND;TZID=Europe/Madrid:20251028T210000
DTSTAMP:20260422T143123
CREATED:20251016T095226Z
LAST-MODIFIED:20251016T095226Z
UID:13176-1761674400-1761685200@www.adefan.es
SUMMARY:Innovar y continuar: el futuro de la empresa familiar
DESCRIPTION:
URL:https://www.adefan.es/evento/innovar-y-continuar-el-futuro-de-la-empresa-familiar/
LOCATION:Hotel Luze El Toro\, Pamplona El Toro Hotel & Spa\, km. 5 Ctra. de Guipúzcoa\, 31195 Pamplona\, Navarra\, 31195\, España
ORGANIZER;CN="ADEFAN":MAILTO:adefan@adefan.es
END:VEVENT
BEGIN:VEVENT
DTSTART;TZID=Europe/Madrid:20250930T180000
DTEND;TZID=Europe/Madrid:20250930T210000
DTSTAMP:20260422T143123
CREATED:20250917T112121Z
LAST-MODIFIED:20250917T112121Z
UID:13157-1759255200-1759266000@www.adefan.es
SUMMARY:Claves para una sucesión ordenada en la empresa familiar
DESCRIPTION:
URL:https://www.adefan.es/evento/claves-para-una-sucesion-ordenada-en-la-empresa-familiar/
LOCATION:Hotel Don Carlos\, Calle Dorraburu 1\, Huarte\, Navarra\, 31620\, España
END:VEVENT
BEGIN:VEVENT
DTSTART;TZID=Europe/Madrid:20250624T133000
DTEND;TZID=Europe/Madrid:20250624T143000
DTSTAMP:20260422T143123
CREATED:20250606T120811Z
LAST-MODIFIED:20250611T124515Z
UID:13073-1750771800-1750775400@www.adefan.es
SUMMARY:Presentación del Informe Regional sobre la Empresa Familiar Navarra
DESCRIPTION:
URL:https://www.adefan.es/evento/presentacion-del-informe-regional-sobre-la-empresa-familiar-navarra/
LOCATION:Sala Nicolás Oresme\, Edificio Madroños\, UPNA\, Campus de Arrosadia - UPNA\, Pamplona\, Spain
ORGANIZER;CN="ADEFAN":MAILTO:adefan@adefan.es
END:VEVENT
BEGIN:VEVENT
DTSTART;TZID=Europe/Madrid:20250527T160000
DTEND;TZID=Europe/Madrid:20250527T200000
DTSTAMP:20260422T143123
CREATED:20250415T092640Z
LAST-MODIFIED:20250415T092814Z
UID:12956-1748361600-1748376000@www.adefan.es
SUMMARY:Asamblea General Ordinaria
DESCRIPTION:
URL:https://www.adefan.es/evento/asamblea-general-ordinaria-3/
LOCATION:Hotel Don Carlos\, Calle Dorraburu 1\, Huarte\, Navarra\, 31620\, España
CATEGORIES:Asamblea
ORGANIZER;CN="ADEFAN":MAILTO:adefan@adefan.es
END:VEVENT
BEGIN:VEVENT
DTSTART;TZID=Europe/Madrid:20250527T154000
DTEND;TZID=Europe/Madrid:20250527T183000
DTSTAMP:20260422T143123
CREATED:20250430T151806Z
LAST-MODIFIED:20250519T152516Z
UID:12967-1748360400-1748370600@www.adefan.es
SUMMARY:Asamblea general
DESCRIPTION:https://www.adefan.es/evento/asamblea-general-2025/
URL:https://www.adefan.es/evento/asamblea-general-2025/
LOCATION:Navarra
CATEGORIES:Asamblea
ATTACH;FMTTYPE=image/jpeg:https://www.adefan.es/wp-content/uploads/2025/04/cabecera-asamblea.jpg
END:VEVENT
BEGIN:VEVENT
DTSTART;TZID=Europe/Madrid:20250512T163000
DTEND;TZID=Europe/Madrid:20250512T173000
DTSTAMP:20260422T143123
CREATED:20250506T143343Z
LAST-MODIFIED:20250506T143343Z
UID:13021-1747067400-1747071000@www.adefan.es
SUMMARY:La Empresa Familiar en las Aulas: Entrega de premios del concurso “Imagina tu empresa” y reconocimiento a las empresas participantes
DESCRIPTION:
URL:https://www.adefan.es/evento/la-empresa-familiar-en-las-aulas-entrega-de-premios-del-concurso-imagina-tu-empresa-y-reconocimiento-a-las-empresas-participantes/
LOCATION:Sala Ágora – CaixaBank\, Avenida Carlos III\, nº8\, Pamplona\, Navarra\, 31002
CATEGORIES:Empresa Familiar en las Aulas
ORGANIZER;CN="ADEFAN":MAILTO:adefan@adefan.es
END:VEVENT
BEGIN:VEVENT
DTSTART;TZID=Europe/Madrid:20250429T180000
DTEND;TZID=Europe/Madrid:20250429T203000
DTSTAMP:20260422T143123
CREATED:20250411T095629Z
LAST-MODIFIED:20250411T101501Z
UID:12944-1745949600-1745958600@www.adefan.es
SUMMARY:Del legado a la acción: Presentación del Fórum de ADEFAN
DESCRIPTION:️ Fecha: Martes\, 29 de abril\nHora: 18:00 h\nLugar: Hotel Tres Reyes \nSe trata de una mesa redonda en la que participarán varios miembros del Fórum de Jóvenes de ADEFAN: \n\nBernat Lizaso (Resitex) – Presidente del Fórum\nItsaso Ciriza (ARETÉ-ACTIVA) – Vicepresidenta del Fórum\nRaquel Huarte (Lizarte) – Vocal del Fórum\nSamuel Jiménez (Goikoa) – Vocal del Fórum
URL:https://www.adefan.es/evento/del-legado-a-la-accion-presentacion-del-forum-de-adefan/
LOCATION:Navarra
END:VEVENT
BEGIN:VEVENT
DTSTART;TZID=Europe/Madrid:20250325T180000
DTEND;TZID=Europe/Madrid:20250325T200000
DTSTAMP:20260422T143123
CREATED:20250307T083716Z
LAST-MODIFIED:20250307T090601Z
UID:12722-1742925600-1742932800@www.adefan.es
SUMMARY:El yin y el yang: gobernanza y gestión de la empresa familiar
DESCRIPTION:Programa   \n18:00 h – Bienvenida e inicio de la mesa redonda\n19:00 h – Networking con picoteo\n20:00 h – Cierre del evento \nCon la participación \n\nDiego Oliver (Grupo Enhol)\nGuillermo García (Grupo Jata)\nNerea Eguiluz (Eguiluz Estanterías)
URL:https://www.adefan.es/evento/el-yin-y-el-yang-gobernanza-y-gestion-de-la-empresa-familiar/
LOCATION:Casino Eslava\, Pl. del Castillo\, 16\,\, Pamplona\, Navarra\, 31001\, España
CATEGORIES:Jornada ADEFAN
ATTACH;FMTTYPE=image/jpeg:https://www.adefan.es/wp-content/uploads/2025/03/yinyan.jpg
END:VEVENT
BEGIN:VEVENT
DTSTART;TZID=Europe/Madrid:20250227T170000
DTEND;TZID=Europe/Madrid:20250227T203000
DTSTAMP:20260422T143123
CREATED:20250212T144150Z
LAST-MODIFIED:20250212T144850Z
UID:12592-1740675600-1740688200@www.adefan.es
SUMMARY:Estrategias fiscales y claves de sucesión en la empresa familiar
DESCRIPTION:PROGRAMA \n17:00 | Presentación del evento \n\nLucía Garcés Galdeano\, directora de la Cátedra de Empresa familiar de la UPNA\nBeatriz Pérez Pérez\, delegada de la AEDAF en Navarra\n\n17:10 | Afectación de bienes: inmovilizado\, tesorería\, inversiones financieras y otros activos problemáticos \n\nDavid Asín Martínez\, licenciado en Derecho y ADE y miembro de la AEDAF\nAntonio Durán-Sindréu Buxadé\, diplomado en CCEE\, licenciado ADE\, doctor en Derecho y miembro de la AEDAF\nModera: Hugo López López\, profesor titular de Derecho Financiero y Tributario en la UPNA y miembro de la AEDAF\n\n18:10 | Coloquio \n18:20 | Aspectos problemáticos de la transmisión de empresas familiares \n\nSonia Velasco Goñi\, licenciada en Derecho\nSonia Olóriz Mateo\, licenciada en Derecho y miembro de la AEDAF\nModera: Beatriz Marín Villamayor\, delegada del Gabinete de Estudios de la AEDAF en Navarra\n\n19:20 | Coloquio \n19:45 | Conclusión y cierre \n20:00 | Aperitivo
URL:https://www.adefan.es/evento/estrategias-fiscales-y-claves-de-sucesion-en-la-empresa-familiar/
LOCATION:UPNA\, Campus de Arrosadia Edificio Los Madroños\, Pamplona\, Pamplona\, 31006\, España
CATEGORIES:Seminario
ATTACH;FMTTYPE=image/png:https://www.adefan.es/wp-content/uploads/2025/02/RRSS-estrategias-fiscales-y-sucesion-Empresa-Familiar.png
END:VEVENT
BEGIN:VEVENT
DTSTART;TZID=Europe/Madrid:20241217T193000
DTEND;TZID=Europe/Madrid:20241217T210000
DTSTAMP:20260422T143123
CREATED:20241121T164437Z
LAST-MODIFIED:20241216T111358Z
UID:12397-1734463800-1734469200@www.adefan.es
SUMMARY:Cóctel de Navidad 2024
DESCRIPTION:
URL:https://www.adefan.es/evento/coctel-de-navidad-2024/
LOCATION:Baluarte\, Pl. del Baluarte\, s/n\,\, Pamplona\, Navarra\, 31013\, España
CATEGORIES:Cóctel
ATTACH;FMTTYPE=image/png:https://www.adefan.es/wp-content/uploads/2024/11/coctel-navidad-1.png
END:VEVENT
BEGIN:VEVENT
DTSTART;TZID=Europe/Madrid:20241126T183000
DTEND;TZID=Europe/Madrid:20241126T203000
DTSTAMP:20260422T143123
CREATED:20241030T150419Z
LAST-MODIFIED:20241121T093936Z
UID:12317-1732645800-1732653000@www.adefan.es
SUMMARY:Gestión del relevo generacional\, los casos de Mainate y Perfinasa
DESCRIPTION:El aforo para este evento ya está completo. Si deseas que te avisemos en caso de que haya alguna plaza disponible  o si tienes alguna otra consulta\, por favor\, contacta con nosotros en adefan@adefan.es \nGracias por tu interés y comprensión. \nLa cita contará además con la presentación del Informe de KPMG: El legado como guía para el\ncrecimiento de las empresas familiares \nOrganiza: ADEFAN\nPatrocina: KPMG
URL:https://www.adefan.es/evento/gestion-del-relevo-generacional-los-casos-de-mainate-y-perfinasa/
LOCATION:Casino Eslava\, Pl. del Castillo\, 16\,\, Pamplona\, Navarra\, 31001\, España
CATEGORIES:Jornada ADEFAN
ATTACH;FMTTYPE=image/jpeg:https://www.adefan.es/wp-content/uploads/2024/10/relevo.jpg
END:VEVENT
BEGIN:VEVENT
DTSTART;TZID=Europe/Madrid:20241108T130000
DTEND;TZID=Europe/Madrid:20241108T170000
DTSTAMP:20260422T143123
CREATED:20241009T075240Z
LAST-MODIFIED:20241106T085107Z
UID:12193-1731070800-1731085200@www.adefan.es
SUMMARY:VIII Premio Empresa Familiar
DESCRIPTION:La entrega del galardón se realizará en el marco de un almuerzo con los socios de ADEFAN.
URL:https://www.adefan.es/evento/viii-premio-empresa-familiar/
LOCATION:Hotel Luze El Toro\, Pamplona El Toro Hotel & Spa\, km. 5 Ctra. de Guipúzcoa\, 31195 Pamplona\, Navarra\, 31195\, España
CATEGORIES:Premio Empresa Familiar
ATTACH;FMTTYPE=image/jpeg:https://www.adefan.es/wp-content/uploads/2024/10/Adefan-Premio-empresa-familiar-Invitación_ADEFAN-.jpg
END:VEVENT
BEGIN:VEVENT
DTSTART;TZID=Europe/Madrid:20241107T170000
DTEND;TZID=Europe/Madrid:20241107T193000
DTSTAMP:20260422T143123
CREATED:20241031T152758Z
LAST-MODIFIED:20241031T152758Z
UID:12322-1730998800-1731007800@www.adefan.es
SUMMARY:Seminario: "Éxitos y Fracasos en la Empresa Familiar"
DESCRIPTION:
URL:https://www.adefan.es/evento/seminario-exitos-y-fracasos-en-la-empresa-familiar/
LOCATION:El Sario\, Edificio El Sario\, Pamplona\, Navarra\, 31006\, España
CATEGORIES:Seminario
END:VEVENT
BEGIN:VEVENT
DTSTART;TZID=Europe/Madrid:20240528T160000
DTEND;TZID=Europe/Madrid:20240528T193000
DTSTAMP:20260422T143123
CREATED:20240429T140717Z
LAST-MODIFIED:20240528T075731Z
UID:11742-1716912000-1716924600@www.adefan.es
SUMMARY:Asamblea General
DESCRIPTION:Parte Privada (solo socios) \n15:45 Recepción de asistentes \n16:00 Asamblea general ordinaria \nParte Pública \nGobernanza y protocolo familiar\, claves del éxito empresarial \n17:00 Bienvenida  \n\nIñaki Ecay\, presidente de ADEFAN\nIsabel Moreno\, directora territorial Ebro (Navarra\, Aragón y La Rioja) en CaixaBank\n\n17:15 Caso SAICA – proyecto empresarial\, proyecto familiar y gobernanza: la unidad como camino hacia el éxito. \n\nJavier Pérez de Mezquía\, consejero del Grupo SAICA\n\n17:55 El protocolo familiar en primera persona \n\nAlbert Campabadal\, vicepresidente del Grupo SIFU\nModera Isabel del Sol\, directora de la Asociación Catalana de Empresa Familiar (ASCEF)\n\n18:35 La gestión del miedo en la actividad empresarial \n\nConversación con Julio de la Iglesia\, TEDAX de Policía Nacional y Top 100 conferenciantes\n\n19:20 Entrega de diplomas concurso “Imagina tu empresa” \n19:30 Cóctel \n  \nPONENTES \n\n\n\n\nJavier Pérez de Mezquía\nIngeniero Químico ha realizado el PDD en el IESE y el Programa Avanzado de Gestión de la Cadena de Suministro del IE. En 2005 se incorporó a Grupo Saica donde desempeña en la actualidad el cargo de director de Proyectos Industriales en las áreas Natur y Flex. Grupo Saica es una de las compañías líderes en Europa en la fabricación de papel recuperado para cartón ondulado.\n\n\n\nAlbert Campabadal\nLicenciado en Administración y Dirección de Empresas y MBA por ESADE y PDD por el IESE es vicepresidente de Grupo SIFU\, empresa dedicada a la prestación de Facility Services con presencia en España\, Francia y Andorra donde emplea a 9.000 personas\, de las que 5.000 presentan algún tipo de discapacidad.\n\n\n\nJulio de la Iglesia\nJulio de la Iglesia es TEDAX (Técnico Especialista en Desactivación de Artefactos Explosivos) y Coach Ejecutivo\, y un referente en la superación del miedo\, liderazgo valiente y la motivación para el éxito.
URL:https://www.adefan.es/evento/asamblea-general/
LOCATION:Hotel Tres Reyes\, Hotel Tres Reyes\, Pamplona\, Navarra\, 31001\, España
CATEGORIES:Asamblea
ATTACH;FMTTYPE=image/png:https://www.adefan.es/wp-content/uploads/2024/04/asamblea.png
END:VEVENT
BEGIN:VEVENT
DTSTART;TZID=Europe/Madrid:20240304T160000
DTEND;TZID=Europe/Madrid:20240304T170000
DTSTAMP:20260422T143123
CREATED:20240215T085802Z
LAST-MODIFIED:20240215T085802Z
UID:11308-1709568000-1709571600@www.adefan.es
SUMMARY:Programa generación digital: agentes del cambio (convocatoria 04 / 03/ 24)
DESCRIPTION:Mediante este práctico programa de formación sin coste alguno\, en tan solo 3 meses\, adquirirás los conocimientos y habilidades necesarias para elaborar el Plan de Transformación Digital de tu empresa de la mano del claustro y mentores expertos de ESIC Navarra. Te beneficiarás de una formación especializada\, podrás actualizar tus conocimientos en el ámbito de la digitalización y sus posibilidades\, y\, además\, tendrás la oportunidad de ampliar tu red de contactos. \nYa hay dos ediciones terminadas y está en marcha la tercera. En este momento están abiertas las reservas de plaza para la 4ª edición a la que estás a tiempo de apuntarte: \n Fecha comienzo: lunes 04 de marzo 2024.   \nFecha fin: lunes 23 de mayo de 2024.   \nClases por las tardes: lunes\, miércoles y jueves de 16.00 a 21.00h.   \n*Fecha tope de inscripción: viernes 23 de febrero. \n*Está por medio los días festivos de Semana Santa del 28 de marzo al 07 de abril que no habrá clase. \n**El curso se celebra parte presencial en el campus de ESIC Navarra en Mutilva (las 9 primeras sesiones y las 2 últimas)\, y parte online en directo (las 17 sesiones restantes)\, además de 10h de mentorización que son online.   \nTe informo más abajo los requisitos actuales que debe tener el alumnado y te animamos a realizar el curso si te encaja esta edición\, ya que\, este programa está previsto que dure todo 2024\, pero tienen que ir cumpliéndose ediciones para que el programa siga adelante durante el año 2024. \nPuedes solicitar más información a través del formulario que encontrarás en https://www.esic.edu/next-generation/curso-transformacion-digital-pymes-agentes-cambio-adefan-navarra. \n¡No dejes escapar esta oportunidad!  \nRequisitos para poder realizar el curso: \nTener entre 18 y 35 años \n\nestar viviendo en Navarra\nestar trabajando en una pyme con CIF Navarra de 10 a 249 trabajadores (hasta 3 personas por pyme) o estar inscrito en el Servicio Navarro de Empleo como demandante\ntener certificado de estudios de Grado Universitario o FP Grado Superior\ntener al menos 6 meses de vida laboral (cuentan prácticas y trabajo).
URL:https://www.adefan.es/evento/programa-generacion-digital-agentes-del-cambio-convocatoria-04-03-24/
LOCATION:Navarra
CATEGORIES:Programa
END:VEVENT
BEGIN:VEVENT
DTSTART;TZID=Europe/Madrid:20240212T080000
DTEND;TZID=Europe/Madrid:20240212T170000
DTSTAMP:20260422T143123
CREATED:20240118T114131Z
LAST-MODIFIED:20240118T114131Z
UID:11094-1707724800-1707757200@www.adefan.es
SUMMARY:Programa generación digital: agentes del cambio (convocatoria 12 / 02/ 24)
DESCRIPTION:Fecha Inicio: lunes 12 de febrero 2024. \n– Fecha Fin: jueves 25 de abril de 2024.\n– Horario: lunes\, miércoles y jueves de 09.00 a 14.00h.\n– Lugar de las clases presenciales: ESIC Navarra (Avda. Anaitasuna 31. 31192 Mutilva).
URL:https://www.adefan.es/evento/programa-generacion-digital-agentes-del-cambio-convocatoria-12-02-24/
LOCATION:Navarra
END:VEVENT
BEGIN:VEVENT
DTSTART;TZID=Europe/Madrid:20240201T163000
DTEND;TZID=Europe/Madrid:20240201T180000
DTSTAMP:20260422T143123
CREATED:20240118T113457Z
LAST-MODIFIED:20240118T113635Z
UID:11087-1706805000-1706810400@www.adefan.es
SUMMARY:Conflictos de empresa familiar. Prevenir y curar
DESCRIPTION:Las empresas familiares\, además de enfrentarse a los retos y dificultades en la vida de cualquier organización\, se enfrentan a conflictos propios que tienen su origen en la relación entre los ámbitos de la empresa y los de la familia. \nEl origen de la mayoría de esos conflictos\, está en la confusión o la mezcla de los vínculos emocionales propios de la familia con los criterios y decisiones racionales propios de la visión empresarial. \nLa observancia de 5 principios fundamentales en la relación entre ambos sistemas\, evita caer en los errores más comunes que provocan la mayoría de los conflictos\, o\, una vez manifestados esos conflictos\, la forma de tratarlos para llegar a una buena solución. \nPonente:  \n\n \n\nAlberto Munarriz \n• Economista\n• MBA\n• Experto en Gestión Financiera de PYMES\n• Consultor de Empresa Familiar\, Estrategia y Finanzas\n• Fundador y primer vicepresidente de ADEFAN (Asociación para el desarrollo de la Empresa Familiar Navarra)\n• Directivo y Consejero en diversas empresas\n• Profesor en Foro Europeo Escuela de Negocios
URL:https://www.adefan.es/evento/conflictos-de-empresa-familiar-prevenir-y-curar/
LOCATION:Club de Marketing\, Avda. Anaitasuna nº 31\, Mutilva\, Navarra\, 31192\, España
ATTACH;FMTTYPE=image/jpeg:https://www.adefan.es/wp-content/uploads/2024/01/112023231orig.jpg
END:VEVENT
BEGIN:VEVENT
DTSTART;TZID=Europe/Madrid:20240130T123000
DTEND;TZID=Europe/Madrid:20240130T140000
DTSTAMP:20260422T143123
CREATED:20231227T153544Z
LAST-MODIFIED:20240111T153702Z
UID:11054-1706617800-1706623200@www.adefan.es
SUMMARY:Los Premios Rei Jaume I se presentan en Pamplona: "Al servicio de la ciencia\, la innovación y el emprendimiento"
DESCRIPTION:
URL:https://www.adefan.es/evento/los-premios-rei-jaume-i-se-presentan-en-pamplona-al-servicio-de-la-ciencia-la-innovacion-y-el-emprendimiento/
LOCATION:Museo Universidad de Navarra\, Campus Universitario\, s/n\,\, Pamplona\, Navarra\, 31009\, España
CATEGORIES:Otros eventos
ORGANIZER;CN="Premios Rei Jaume I":MAILTO:premiosreyjaime@fprj.es
END:VEVENT
BEGIN:VEVENT
DTSTART;TZID=Europe/Madrid:20240122T080000
DTEND;TZID=Europe/Madrid:20240122T170000
DTSTAMP:20260422T143123
CREATED:20240118T113935Z
LAST-MODIFIED:20240118T113935Z
UID:11091-1705910400-1705942800@www.adefan.es
SUMMARY:Programa generación digital: agentes del cambio (convocatoria 22/01/24)
DESCRIPTION:Fecha Inicio: lunes 22 de enero 2024. \n– Fecha Fin: lunes 08 de abril de 2024.\n– Horario: lunes\, miércoles y jueves de 16.00 a 21.00h.\n– Lugar de las clases presenciales: ESIC Navarra (Avda. Anaitasuna 31. 31192 Mutilva).
URL:https://www.adefan.es/evento/programa-generacion-digital-agentes-del-cambio-convocatoria-22-01-24/
LOCATION:Navarra
END:VEVENT
BEGIN:VEVENT
DTSTART;TZID=Europe/Madrid:20231213T163000
DTEND;TZID=Europe/Madrid:20231213T163000
DTSTAMP:20260422T143123
CREATED:20231205T091326Z
LAST-MODIFIED:20231213T091137Z
UID:10965-1702485000-1702485000@www.adefan.es
SUMMARY:Claves de la Información Financiera\, ESG y Fiscal 2023
DESCRIPTION:Sesión de actualización normativa «Claves de la Información Financiera\, ESG y Fiscal 2023» organizada por KPMG\, en colaboración con ADEFAN\, que se celebrará de forma presencial el próximo 13 de diciembre a las 16:30 en Hotel Iruña Park Pamplona (Arcadio M. Larraona 1\, Pamplona) \nTe permitirá conocer los principales impactos de las novedades regulatorias en materia contable\, ESG\, mercantil y fiscal con un enfoque práctico en los aspectos vinculados al cierre de cuentas anuales y el reporting corporativo de este ejercicio. \nAdemás\, en el actual contexto\, todo hace indicar que durante la próxima década se incrementará considerablemente la dificultad para analizar y evaluar los riesgos de ciberseguridad\, debido a la gran complejidad de los ecosistemas de amenazas y a la expansión de las superficies y vectores de ataque. \nLos riesgos se expanden entre los diferentes negocios y tecnologías\, diluyéndose los perímetros tradicionales y obligando a las compañías a ir un paso adelante\, replanteándose los modelos actuales y llevando a cabo enfoques ágiles\, que aborden la ciberseguridad desde todos los ángulos posibles\, obligando a no confiar en los paradigmas que\, hasta ahora\, dábamos por sentado. Abordaremos los principales temas que tienen que tener en cuenta las empresas en este sentido. \nPara finalizar la sesión habrá un vino español para todos los asistentes. \nAgenda: \n•    Perspectivas macro ante el cierre y en 2024 y sus impactos contables\n•    Novedades contables en PGC\n•    Efectos contables derivados de normas mercantiles\n•    Entorno y cambios en el ámbito fiscal\n•    Exigencias en información ESG ante el cierre 2023\n•    Ciberseguridad. Todas las compañías en el punto de mira de los ciberdelincuentes\n•    Vino español \nPonentes:\n•    Jorge García Costas – Socio de Auditoría\n•    Isabel Fano – Socia de impuestos\n•    Patricia Reverter – Socia de Sostenibilidad\n•    Sergi Gil – Socio de Ciberseguridad
URL:https://www.adefan.es/evento/claves-de-la-informacion-financiera-esg-y-fiscal-2023/
LOCATION:Navarra
CATEGORIES:Sesión
ATTACH;FMTTYPE=image/jpeg:https://www.adefan.es/wp-content/uploads/2023/12/kpmg.jpg
END:VEVENT
BEGIN:VEVENT
DTSTART;TZID=Europe/Madrid:20231212T193000
DTEND;TZID=Europe/Madrid:20231212T220000
DTSTAMP:20260422T143123
CREATED:20230119T165203Z
LAST-MODIFIED:20231116T160020Z
UID:9882-1702409400-1702418400@www.adefan.es
SUMMARY:Cóctel de Navidad (solo socios e invitados)
DESCRIPTION:
URL:https://www.adefan.es/evento/coctel-de-navidad-solo-socios-e-invitados/
LOCATION:Baluarte\, Pl. del Baluarte\, s/n\,\, Pamplona\, Navarra\, 31013\, España
CATEGORIES:Cóctel
END:VEVENT
BEGIN:VEVENT
DTSTART;TZID=Europe/Madrid:20231127T090000
DTEND;TZID=Europe/Madrid:20231127T140000
DTSTAMP:20260422T143123
CREATED:20231109T130514Z
LAST-MODIFIED:20231115T083514Z
UID:10858-1701075600-1701093600@www.adefan.es
SUMMARY:Programa generación digital: agentes del cambio
DESCRIPTION:Fecha Inicio: 27 de noviembre 2023.\nFecha Fin: 06 de febrero 2024.\nHorario: lunes\, martes\, miércoles\, jueves de 09.00 a 14.00h.  \n*Las 9 primeras clases y las 2 últimas son presenciales en ESIC Navarra (Avda. Anaitasuna 31. 31192 Mutilva)\, el resto son online en directo.
URL:https://www.adefan.es/evento/programa-generacion-digital-agentes-del-cambio/
LOCATION:Navarra
END:VEVENT
BEGIN:VEVENT
DTSTART;VALUE=DATE:20231114
DTEND;VALUE=DATE:20231115
DTSTAMP:20260422T143123
CREATED:20230119T165109Z
LAST-MODIFIED:20230119T165109Z
UID:9880-1699920000-1700006399@www.adefan.es
SUMMARY:Junta Directiva ADEFAN
DESCRIPTION:Foto de familia de la Junta Directiva de ADEFAN tras su primer encuentro de trabajo en el Hotel Pamplona El Toro. (Foto: Víctor Ruiz).
URL:https://www.adefan.es/evento/junta-directiva-adefan-7/
LOCATION:Navarra
END:VEVENT
BEGIN:VEVENT
DTSTART;VALUE=DATE:20231022
DTEND;VALUE=DATE:20231025
DTSTAMP:20260422T143123
CREATED:20230119T164909Z
LAST-MODIFIED:20230725T042947Z
UID:9876-1697932800-1698191999@www.adefan.es
SUMMARY:XXVI Congreso Nacional de la Empresa Familiar (Bilbao\, 2023)
DESCRIPTION:Foto de familia de la representación de ADEFAN en el XXV Congreso Nacional de Cáceres. (Foto: cedida).
URL:https://www.adefan.es/evento/xxvi-congreso-nacional-de-la-empresa-familiar-bilbao-2023/
LOCATION:Navarra
CATEGORIES:Congreso
END:VEVENT
BEGIN:VEVENT
DTSTART;TZID=Europe/Madrid:20231020T133000
DTEND;TZID=Europe/Madrid:20231020T173000
DTSTAMP:20260422T143123
CREATED:20230119T163831Z
LAST-MODIFIED:20231019T121858Z
UID:9874-1697808600-1697823000@www.adefan.es
SUMMARY:VII Premio Empresa Familiar Navarra
DESCRIPTION:
URL:https://www.adefan.es/evento/vii-premio-empresa-familiar-navarra/
LOCATION:Hotel Castillo de Gorráiz Golf & Spa\, Av. de Egüés\, 78\, Gorráiz\, Navarra\, 31620\, España
CATEGORIES:Premio Empresa Familiar
END:VEVENT
END:VCALENDAR